{
 "currentVersion": 10.91,
 "serviceDescription": "Provides context for a wide range of people and supports a variety of application needs within a local government. The layers in this basemap provide context for multiple workflows, such as editing data or producing web maps. It includes structures, roads, major facilities, water features, and boundaries. This map also includes Campus Basemap can be used to create a high-resolution, multi-scale basemap for a university or business campus. It can also be used by government agencies to produce a high-resolution basemap for a downtown, government complex, or military base. ",
 "mapName": "Layers",
 "description": "Provides a consumer representation of parcel information that can be used with infrastructure and parcel information. The layers in the map provide context for multiple workflows, such as editing data or producing web maps. Includes structures, roads, major facilities and landmarks, water features, parcels, addresses and boundaries. This basemap uses design elements found in the General Purpose basemap but adds additional content at larger scales.",
 "copyrightText": "Esri., Inc., Smith County, TX",
 "supportsDynamicLayers": true,
 "layers": [
  {
   "id": 0,
   "name": "City",
   "parentLayerId": -1,
   "defaultVisibility": true,
   "subLayerIds": [
    1,
    19,
    37,
    55,
    71,
    87,
    98,
    109,
    118
   ],
   "minScale": 0,
   "maxScale": 0,
   "type": "Group Layer"
  },
  {
   "id": 1,
   "name": "1K",
   "parentLayerId": 0,
   "defaultVisibility": true,
   "subLayerIds": [
    2,
    3,
    4,
    5,
    6,
    7,
    8,
    9,
    10,
    11,
    12,
    13,
    14,
    15,
    16,
    17,
    18
   ],
   "minScale": 1950,
   "maxScale": 0,
   "type": "Group Layer"
  },
  {
   "id": 19,
   "name": "2K",
   "parentLayerId": 0,
   "defaultVisibility": true,
   "subLayerIds": [
    20,
    21,
    22,
    23,
    24,
    25,
    26,
    27,
    28,
    29,
    30,
    31,
    32,
    33,
    34,
    35,
    36
   ],
   "minScale": 2500,
   "maxScale": 1951,
   "type": "Group Layer"
  },
  {
   "id": 37,
   "name": "4K",
   "parentLayerId": 0,
   "defaultVisibility": true,
   "subLayerIds": [
    38,
    39,
    40,
    41,
    42,
    43,
    44,
    45,
    46,
    47,
    48,
    49,
    50,
    51,
    52,
    53,
    54
   ],
   "minScale": 5000,
   "maxScale": 2501,
   "type": "Group Layer"
  },
  {
   "id": 55,
   "name": "9K",
   "parentLayerId": 0,
   "defaultVisibility": true,
   "subLayerIds": [
    56,
    57,
    58,
    59,
    60,
    61,
    62,
    63,
    64,
    65,
    66,
    67,
    68,
    69,
    70
   ],
   "minScale": 15000,
   "maxScale": 5001,
   "type": "Group Layer"
  },
  {
   "id": 71,
   "name": "18K",
   "parentLayerId": 0,
   "defaultVisibility": true,
   "subLayerIds": [
    72,
    73,
    74,
    75,
    76,
    77,
    78,
    79,
    80,
    81,
    82,
    83,
    84,
    85,
    86
   ],
   "minScale": 25000,
   "maxScale": 15001,
   "type": "Group Layer"
  },
  {
   "id": 87,
   "name": "36K",
   "parentLayerId": 0,
   "defaultVisibility": true,
   "subLayerIds": [
    88,
    89,
    90,
    91,
    92,
    93,
    94,
    95,
    96,
    97
   ],
   "minScale": 50000,
   "maxScale": 25001,
   "type": "Group Layer"
  },
  {
   "id": 98,
   "name": "72K",
   "parentLayerId": 0,
   "defaultVisibility": true,
   "subLayerIds": [
    99,
    100,
    101,
    102,
    103,
    104,
    105,
    106,
    107,
    108
   ],
   "minScale": 100000,
   "maxScale": 50001,
   "type": "Group Layer"
  },
  {
   "id": 109,
   "name": "144K",
   "parentLayerId": 0,
   "defaultVisibility": true,
   "subLayerIds": [
    110,
    111,
    112,
    113,
    114,
    115,
    116,
    117
   ],
   "minScale": 150000,
   "maxScale": 100001,
   "type": "Group Layer"
  },
  {
   "id": 118,
   "name": "288K",
   "parentLayerId": 0,
   "defaultVisibility": true,
   "subLayerIds": [
    119,
    120,
    121,
    122,
    123,
    124,
    125,
    126
   ],
   "minScale": 1200000,
   "maxScale": 150001,
   "type": "Group Layer"
  }
 ],
 "tables": [],
 "spatialReference": {
  "wkid": 102100,
  "latestWkid": 3857
 },
 "singleFusedMapCache": true,
 "tileInfo": {
  "rows": 256,
  "cols": 256,
  "dpi": 96,
  "format": "PNG",
  "compressionQuality": 0,
  "origin": {
   "x": -2.0037508342787E7,
   "y": 2.0037508342787E7
  },
  "spatialReference": {
   "wkid": 102100,
   "latestWkid": 3857
  },
  "lods": [
   {
    "level": 0,
    "resolution": 156543.03392800014,
    "scale": 5.91657527591555E8
   },
   {
    "level": 1,
    "resolution": 78271.51696399994,
    "scale": 2.95828763795777E8
   },
   {
    "level": 2,
    "resolution": 39135.75848200009,
    "scale": 1.47914381897889E8
   },
   {
    "level": 3,
    "resolution": 19567.87924099992,
    "scale": 7.3957190948944E7
   },
   {
    "level": 4,
    "resolution": 9783.93962049996,
    "scale": 3.6978595474472E7
   },
   {
    "level": 5,
    "resolution": 4891.96981024998,
    "scale": 1.8489297737236E7
   },
   {
    "level": 6,
    "resolution": 2445.98490512499,
    "scale": 9244648.868618
   },
   {
    "level": 7,
    "resolution": 1222.992452562495,
    "scale": 4622324.434309
   },
   {
    "level": 8,
    "resolution": 611.4962262813797,
    "scale": 2311162.217155
   },
   {
    "level": 9,
    "resolution": 305.74811314055756,
    "scale": 1155581.108577
   },
   {
    "level": 10,
    "resolution": 152.87405657041106,
    "scale": 577790.554289
   },
   {
    "level": 11,
    "resolution": 76.43702828507324,
    "scale": 288895.277144
   },
   {
    "level": 12,
    "resolution": 38.21851414253662,
    "scale": 144447.638572
   },
   {
    "level": 13,
    "resolution": 19.10925707126831,
    "scale": 72223.819286
   },
   {
    "level": 14,
    "resolution": 9.554628535634155,
    "scale": 36111.909643
   },
   {
    "level": 15,
    "resolution": 4.77731426794937,
    "scale": 18055.954822
   },
   {
    "level": 16,
    "resolution": 2.388657133974685,
    "scale": 9027.977411
   },
   {
    "level": 17,
    "resolution": 1.1943285668550503,
    "scale": 4513.988705
   },
   {
    "level": 18,
    "resolution": 0.5971642835598172,
    "scale": 2256.994353
   },
   {
    "level": 19,
    "resolution": 0.29858214164761665,
    "scale": 1128.497176
   },
   {
    "level": 20,
    "resolution": 0.14929107082380833,
    "scale": 564.248588
   },
   {
    "level": 21,
    "resolution": 0.07464553541190416,
    "scale": 282.124294
   },
   {
    "level": 22,
    "resolution": 0.03732276770595208,
    "scale": 141.062147
   },
   {
    "level": 23,
    "resolution": 0.01866138385297604,
    "scale": 70.5310735
   }
  ]
 },
 "initialExtent": {
  "xmin": -1.0654014814252045E7,
  "ymin": 3804267.8678372246,
  "xmax": -1.056007370648969E7,
  "ymax": 3845773.1741960193,
  "spatialReference": {
   "wkid": 102100,
   "latestWkid": 3857
  }
 },
 "fullExtent": {
  "xmin": -1.0682973186197238E7,
  "ymin": 3774306.119560808,
  "xmax": -1.0529304732436819E7,
  "ymax": 3858703.797107603,
  "spatialReference": {
   "wkid": 102100,
   "latestWkid": 3857
  }
 },
 "minScale": 1155581.108577,
 "maxScale": 564.248588,
 "minLOD": 9,
 "maxLOD": 20,
 "units": "esriMeters",
 "supportedImageFormatTypes": "PNG32,PNG24,PNG,JPG,DIB,TIFF,EMF,PS,PDF,GIF,SVG,SVGZ,BMP",
 "documentInfo": {
  "Title": "General Purpose Basemap",
  "Author": "",
  "Comments": "Provides context for a wide range of people and supports a variety of application needs within a local government. The layers in this basemap provide context for multiple workflows, such as editing data or producing web maps. It includes structures, roads, major facilities, water features, and boundaries. This map also includes Campus Basemap can be used to create a high-resolution, multi-scale basemap for a university or business campus. It can also be used by government agencies to produce a high-resolution basemap for a downtown, government complex, or military base. ",
  "Subject": "The General Purpose basemap provides context for a wide range of people and supports a variety of application needs within a local government. ",
  "Category": "",
  "AntialiasingMode": "None",
  "TextAntialiasingMode": "Force",
  "Keywords": "University Campus,Campus Basemap,Local Government Downtown,General Purpose,Basemap"
 },
 "capabilities": "Map,Query,Data",
 "supportedQueryFormats": "JSON, geoJSON",
 "exportTilesAllowed": false,
 "referenceScale": 0,
 "datumTransformations": [
  {
   "geoTransforms": [
    {
     "wkid": 108001,
     "latestWkid": 1241,
     "transformForward": true,
     "name": "NAD_1927_To_NAD_1983_NADCON"
    }
   ]
  },
  {
   "geoTransforms": [
    {
     "wkid": 108001,
     "latestWkid": 1241,
     "transformForward": false,
     "name": "NAD_1927_To_NAD_1983_NADCON"
    }
   ]
  }
 ],
 "supportsDatumTransformation": true,
 "maxRecordCount": 1000,
 "maxImageHeight": 4096,
 "maxImageWidth": 4096,
 "supportedExtensions": "KmlServer"
}
